BEGIN:VCALENDAR
VERSION:2.0
PRODID:-//Greater Mount Zion AME - ECPv6.15.20//NONSGML v1.0//EN
CALSCALE:GREGORIAN
METHOD:PUBLISH
X-WR-CALNAME:Greater Mount Zion AME
X-ORIGINAL-URL:https://www.gmztame.org
X-WR-CALDESC:Events for Greater Mount Zion AME
REFRESH-INTERVAL;VALUE=DURATION:PT1H
X-Robots-Tag:noindex
X-PUBLISHED-TTL:PT1H
BEGIN:VTIMEZONE
TZID:America/New_York
BEGIN:DAYLIGHT
TZOFFSETFROM:-0500
TZOFFSETTO:-0400
TZNAME:EDT
DTSTART:20220313T070000
END:DAYLIGHT
BEGIN:STANDARD
TZOFFSETFROM:-0400
TZOFFSETTO:-0500
TZNAME:EST
DTSTART:20221106T060000
END:STANDARD
BEGIN:DAYLIGHT
TZOFFSETFROM:-0500
TZOFFSETTO:-0400
TZNAME:EDT
DTSTART:20230312T070000
END:DAYLIGHT
BEGIN:STANDARD
TZOFFSETFROM:-0400
TZOFFSETTO:-0500
TZNAME:EST
DTSTART:20231105T060000
END:STANDARD
BEGIN:DAYLIGHT
TZOFFSETFROM:-0500
TZOFFSETTO:-0400
TZNAME:EDT
DTSTART:20240310T070000
END:DAYLIGHT
BEGIN:STANDARD
TZOFFSETFROM:-0400
TZOFFSETTO:-0500
TZNAME:EST
DTSTART:20241103T060000
END:STANDARD
BEGIN:DAYLIGHT
TZOFFSETFROM:-0500
TZOFFSETTO:-0400
TZNAME:EDT
DTSTART:20250309T070000
END:DAYLIGHT
BEGIN:STANDARD
TZOFFSETFROM:-0400
TZOFFSETTO:-0500
TZNAME:EST
DTSTART:20251102T060000
END:STANDARD
BEGIN:DAYLIGHT
TZOFFSETFROM:-0500
TZOFFSETTO:-0400
TZNAME:EDT
DTSTART:20260308T070000
END:DAYLIGHT
BEGIN:STANDARD
TZOFFSETFROM:-0400
TZOFFSETTO:-0500
TZNAME:EST
DTSTART:20261101T060000
END:STANDARD
BEGIN:DAYLIGHT
TZOFFSETFROM:-0500
TZOFFSETTO:-0400
TZNAME:EDT
DTSTART:20270314T070000
END:DAYLIGHT
BEGIN:STANDARD
TZOFFSETFROM:-0400
TZOFFSETTO:-0500
TZNAME:EST
DTSTART:20271107T060000
END:STANDARD
END:VTIMEZONE
BEGIN:VEVENT
DTSTART;TZID=America/New_York:20260121T180000
DTEND;TZID=America/New_York:20260121T190000
DTSTAMP:20260420T111931
CREATED:20260118T035555Z
LAST-MODIFIED:20260118T035555Z
UID:2363-1769018400-1769022000@www.gmztame.org
SUMMARY:Bible Study
DESCRIPTION:https://zoom.us/j/7485982200 \nMeeting ID: 748 598 2200 \nCall in: 1 646 558 8656 US
URL:https://www.gmztame.org/event/bible-study-3/
LOCATION:Online
CATEGORIES:Bible Study
ATTACH;FMTTYPE=image/jpeg:https://www.gmztame.org/wp-content/uploads/2026/01/76E1A36C-9E8C-4AEA-A76F-99072D7FA5B4.jpeg
END:VEVENT
BEGIN:VEVENT
DTSTART;TZID=America/New_York:20260117T080000
DTEND;TZID=America/New_York:20260117T170000
DTSTAMP:20260420T111931
CREATED:20260117T195858Z
LAST-MODIFIED:20260117T195858Z
UID:2360-1768636800-1768669200@www.gmztame.org
SUMMARY:
DESCRIPTION:
URL:https://www.gmztame.org/event/2360/
END:VEVENT
BEGIN:VEVENT
DTSTART;TZID=America/New_York:20231231T100000
DTEND;TZID=America/New_York:20231231T120000
DTSTAMP:20260420T111931
CREATED:20231130T205054Z
LAST-MODIFIED:20231130T205054Z
UID:2326-1704016800-1704024000@www.gmztame.org
SUMMARY:December Preaching Series
DESCRIPTION:Greater Mt. Zion African Methodist Episcopal Church\nNovember & December Preaching Series\nOld Time Religion\nJoin Us In-Person or Facebook Live\nRev. Dr. Charles F. Boyer
URL:https://www.gmztame.org/event/december-preaching-series-12-31/
LOCATION:Greater Mount Zion AME\, 42 Pennington Ave\, Trenton\, NJ\, 08618\, United States
CATEGORIES:Sunday Service
ATTACH;FMTTYPE=image/jpeg:https://www.gmztame.org/wp-content/uploads/2023/11/Nov.Dec-Preaching-Series-2023.jpeg
ORGANIZER;CN="GMZAME":MAILTO:noreply@example.com
END:VEVENT
BEGIN:VEVENT
DTSTART;TZID=America/New_York:20231224T100000
DTEND;TZID=America/New_York:20231224T120000
DTSTAMP:20260420T111931
CREATED:20231130T205020Z
LAST-MODIFIED:20231130T205020Z
UID:2324-1703412000-1703419200@www.gmztame.org
SUMMARY:December Preaching Series
DESCRIPTION:Greater Mt. Zion African Methodist Episcopal Church\nNovember & December Preaching Series\nOld Time Religion\nJoin Us In-Person or Facebook Live\nRev. Dr. Charles F. Boyer
URL:https://www.gmztame.org/event/december-preaching-series-12-24/
LOCATION:Greater Mount Zion AME\, 42 Pennington Ave\, Trenton\, NJ\, 08618\, United States
CATEGORIES:Sunday Service
ATTACH;FMTTYPE=image/jpeg:https://www.gmztame.org/wp-content/uploads/2023/11/Nov.Dec-Preaching-Series-2023.jpeg
ORGANIZER;CN="GMZAME":MAILTO:noreply@example.com
END:VEVENT
BEGIN:VEVENT
DTSTART;TZID=America/New_York:20231223T120000
DTEND;TZID=America/New_York:20231223T130000
DTSTAMP:20260420T111931
CREATED:20231106T235723Z
LAST-MODIFIED:20231106T235723Z
UID:2301-1703332800-1703336400@www.gmztame.org
SUMMARY:Men's Fellowship
DESCRIPTION:Men’s Fellowship\nEvery FOURTH Sunday of the month after service
URL:https://www.gmztame.org/event/mens-fellowship-12-23/
LOCATION:Greater Mount Zion AME\, 42 Pennington Ave\, Trenton\, NJ\, 08618\, United States
CATEGORIES:Community
ATTACH;FMTTYPE=image/png:https://www.gmztame.org/wp-content/uploads/2023/11/mens-flyer.rev_.png
ORGANIZER;CN="GMZAME":MAILTO:noreply@example.com
END:VEVENT
BEGIN:VEVENT
DTSTART;TZID=America/New_York:20231217T100000
DTEND;TZID=America/New_York:20231217T120000
DTSTAMP:20260420T111931
CREATED:20231130T204953Z
LAST-MODIFIED:20231130T204953Z
UID:2322-1702807200-1702814400@www.gmztame.org
SUMMARY:December Preaching Series
DESCRIPTION:Greater Mt. Zion African Methodist Episcopal Church\nNovember & December Preaching Series\nOld Time Religion\nJoin Us In-Person or Facebook Live\nRev. Dr. Charles F. Boyer
URL:https://www.gmztame.org/event/december-preaching-series-12-17/
LOCATION:Greater Mount Zion AME\, 42 Pennington Ave\, Trenton\, NJ\, 08618\, United States
CATEGORIES:Sunday Service
ATTACH;FMTTYPE=image/jpeg:https://www.gmztame.org/wp-content/uploads/2023/11/Nov.Dec-Preaching-Series-2023.jpeg
ORGANIZER;CN="GMZAME":MAILTO:noreply@example.com
END:VEVENT
BEGIN:VEVENT
DTSTART;TZID=America/New_York:20231216T100000
DTEND;TZID=America/New_York:20231216T120000
DTSTAMP:20260420T111931
CREATED:20231130T204119Z
LAST-MODIFIED:20231130T204119Z
UID:2315-1702720800-1702728000@www.gmztame.org
SUMMARY:Food Giveaway For The Community
DESCRIPTION:Food Giveaway For The Community\nLimited Supplies\nGreater Mt. Zion AME Church & Myra Ashley Missionary Society
URL:https://www.gmztame.org/event/food-giveaway-for-the-community-12-16/
LOCATION:Greater Mount Zion AME\, 42 Pennington Ave\, Trenton\, NJ\, 08618\, United States
CATEGORIES:Community
ATTACH;FMTTYPE=image/jpeg:https://www.gmztame.org/wp-content/uploads/2023/11/Dec-Food-giveaway-Flyer-20.jpg
ORGANIZER;CN="GMZAME":MAILTO:noreply@example.com
END:VEVENT
BEGIN:VEVENT
DTSTART;TZID=America/New_York:20231210T100000
DTEND;TZID=America/New_York:20231210T120000
DTSTAMP:20260420T111931
CREATED:20231130T204930Z
LAST-MODIFIED:20231130T204930Z
UID:2320-1702202400-1702209600@www.gmztame.org
SUMMARY:December Preaching Series
DESCRIPTION:Greater Mt. Zion African Methodist Episcopal Church\nNovember & December Preaching Series\nOld Time Religion\nJoin Us In-Person or Facebook Live\nRev. Dr. Charles F. Boyer
URL:https://www.gmztame.org/event/december-preaching-series-12-10/
LOCATION:Greater Mount Zion AME\, 42 Pennington Ave\, Trenton\, NJ\, 08618\, United States
CATEGORIES:Sunday Service
ATTACH;FMTTYPE=image/jpeg:https://www.gmztame.org/wp-content/uploads/2023/11/Nov.Dec-Preaching-Series-2023.jpeg
ORGANIZER;CN="GMZAME":MAILTO:noreply@example.com
END:VEVENT
BEGIN:VEVENT
DTSTART;TZID=America/New_York:20231203T100000
DTEND;TZID=America/New_York:20231203T120000
DTSTAMP:20260420T111931
CREATED:20231130T204718Z
LAST-MODIFIED:20231130T204718Z
UID:2317-1701597600-1701604800@www.gmztame.org
SUMMARY:December Preaching Series
DESCRIPTION:Greater Mt. Zion African Methodist Episcopal Church\nNovember & December Preaching Series\nOld Time Religion\nJoin Us In-Person or Facebook Live\nRev. Dr. Charles F. Boyer
URL:https://www.gmztame.org/event/december-preaching-series-12-3/
LOCATION:Greater Mount Zion AME\, 42 Pennington Ave\, Trenton\, NJ\, 08618\, United States
CATEGORIES:Sunday Service
ATTACH;FMTTYPE=image/jpeg:https://www.gmztame.org/wp-content/uploads/2023/11/Nov.Dec-Preaching-Series-2023.jpeg
ORGANIZER;CN="GMZAME":MAILTO:noreply@example.com
END:VEVENT
BEGIN:VEVENT
DTSTART;TZID=America/New_York:20231202T100000
DTEND;TZID=America/New_York:20231202T120000
DTSTAMP:20260420T111931
CREATED:20231130T203935Z
LAST-MODIFIED:20231130T203935Z
UID:2312-1701511200-1701518400@www.gmztame.org
SUMMARY:Food Giveaway For The Community
DESCRIPTION:Food Giveaway For The Community\nLimited Supplies\nGreater Mt. Zion AME Church & Myra Ashley Missionary Society
URL:https://www.gmztame.org/event/food-giveaway-for-the-community-12-2/
LOCATION:Greater Mount Zion AME\, 42 Pennington Ave\, Trenton\, NJ\, 08618\, United States
CATEGORIES:Community
ATTACH;FMTTYPE=image/jpeg:https://www.gmztame.org/wp-content/uploads/2023/11/Dec-Food-giveaway-Flyer-20.jpg
ORGANIZER;CN="GMZAME":MAILTO:noreply@example.com
END:VEVENT
BEGIN:VEVENT
DTSTART;TZID=America/New_York:20231129T180000
DTEND;TZID=America/New_York:20231129T190000
DTSTAMP:20260420T111931
CREATED:20231107T000336Z
LAST-MODIFIED:20231107T000336Z
UID:2310-1701280800-1701284400@www.gmztame.org
SUMMARY:Bible Study Series: From A Black Liberation Perspective
DESCRIPTION:From A Black Liberation Perspective\nBible Study Series\nEvery Wednesday @ 6pm\nZoom Info: \nMeeting ID: 748 598 2200 \nCall In: 646-558-8656
URL:https://www.gmztame.org/event/bible-study-series-from-a-black-liberation-perspective-11-29/
LOCATION:Online
CATEGORIES:Bible Study
ATTACH;FMTTYPE=image/png:https://www.gmztame.org/wp-content/uploads/2023/09/Bible-Study-9.6.png
ORGANIZER;CN="GMZAME":MAILTO:noreply@example.com
END:VEVENT
BEGIN:VEVENT
DTSTART;TZID=America/New_York:20231128T190000
DTEND;TZID=America/New_York:20231128T200000
DTSTAMP:20260420T111931
CREATED:20231106T235154Z
LAST-MODIFIED:20231106T235154Z
UID:2297-1701198000-1701201600@www.gmztame.org
SUMMARY:Young Adult Bible Study
DESCRIPTION:Young Adult Bible Study\nMin. Brandon Bradley\, Rev. Ari Johnson & Min. Amber Scott\nEvery 2nd & 4th Tuesday @ 7pm\nZoom Info:\nMeeting ID: 882 844 1736\nCall In: 646-518-9805
URL:https://www.gmztame.org/event/young-adult-bible-study/
LOCATION:Online
CATEGORIES:Bible Study
ATTACH;FMTTYPE=image/png:https://www.gmztame.org/wp-content/uploads/2023/11/YA-Bible-Study.2-2.png
ORGANIZER;CN="GMZAME":MAILTO:noreply@example.com
END:VEVENT
BEGIN:VEVENT
DTSTART;TZID=America/New_York:20231125T120000
DTEND;TZID=America/New_York:20231125T130000
DTSTAMP:20260420T111931
CREATED:20231106T234343Z
LAST-MODIFIED:20231106T235847Z
UID:2295-1700913600-1700917200@www.gmztame.org
SUMMARY:Men's Fellowship
DESCRIPTION:Men’s Fellowship\nEvery FOURTH Sunday of the month after service
URL:https://www.gmztame.org/event/mens-fellowship-11-25/
LOCATION:Greater Mount Zion AME\, 42 Pennington Ave\, Trenton\, NJ\, 08618\, United States
CATEGORIES:Community
ATTACH;FMTTYPE=image/png:https://www.gmztame.org/wp-content/uploads/2023/11/mens-flyer.rev_.png
ORGANIZER;CN="GMZAME":MAILTO:noreply@example.com
END:VEVENT
BEGIN:VEVENT
DTSTART;TZID=America/New_York:20231122T180000
DTEND;TZID=America/New_York:20231122T190000
DTSTAMP:20260420T111931
CREATED:20231107T000304Z
LAST-MODIFIED:20231107T000304Z
UID:2308-1700676000-1700679600@www.gmztame.org
SUMMARY:Bible Study Series: From A Black Liberation Perspective
DESCRIPTION:From A Black Liberation Perspective\nBible Study Series\nEvery Wednesday @ 6pm\nZoom Info: \nMeeting ID: 748 598 2200 \nCall In: 646-558-8656
URL:https://www.gmztame.org/event/bible-study-series-from-a-black-liberation-perspective-11-22/
LOCATION:Online
CATEGORIES:Bible Study
ATTACH;FMTTYPE=image/png:https://www.gmztame.org/wp-content/uploads/2023/09/Bible-Study-9.6.png
ORGANIZER;CN="GMZAME":MAILTO:noreply@example.com
END:VEVENT
BEGIN:VEVENT
DTSTART;TZID=America/New_York:20231119T100000
DTEND;TZID=America/New_York:20231119T120000
DTSTAMP:20260420T111931
CREATED:20231106T232522Z
LAST-MODIFIED:20231106T232628Z
UID:2290-1700388000-1700395200@www.gmztame.org
SUMMARY:Church Anniversary
DESCRIPTION:Church Anniversary\nWorshipping and Spreading the Gospel for 212 Years\nRev. Dr. Charles F. Boyer\, Pastor First Lady Rosalee Boyer\nGuest Preacher Rev. Dr. Kenneth L. Saunders\nCome worship with us in person or on FB live
URL:https://www.gmztame.org/event/212-church-anniversary/
LOCATION:Greater Mount Zion AME\, 42 Pennington Ave\, Trenton\, NJ\, 08618\, United States
CATEGORIES:Community,Sunday Service
ATTACH;FMTTYPE=image/jpeg:https://www.gmztame.org/wp-content/uploads/2023/11/Church-Anniversary-10.19.23.jpg
ORGANIZER;CN="GMZAME":MAILTO:noreply@example.com
END:VEVENT
BEGIN:VEVENT
DTSTART;TZID=America/New_York:20231118T100000
DTEND;TZID=America/New_York:20231118T120000
DTSTAMP:20260420T111931
CREATED:20231106T232825Z
LAST-MODIFIED:20231106T232825Z
UID:2293-1700301600-1700308800@www.gmztame.org
SUMMARY:Food Giveaway For The Community
DESCRIPTION:Food Giveaway For The Community\nLimited Supplies\nGreater Mt. Zion AME Church & Myra Ashley Missionary Society
URL:https://www.gmztame.org/event/food-giveaway-for-the-community-nov/
LOCATION:Greater Mount Zion AME\, 42 Pennington Ave\, Trenton\, NJ\, 08618\, United States
CATEGORIES:Community
ATTACH;FMTTYPE=image/jpeg:https://www.gmztame.org/wp-content/uploads/2023/11/Food-giveaway-Flyer-21.jpg
ORGANIZER;CN="GMZAME":MAILTO:noreply@example.com
END:VEVENT
BEGIN:VEVENT
DTSTART;TZID=America/New_York:20231115T180000
DTEND;TZID=America/New_York:20231115T190000
DTSTAMP:20260420T111931
CREATED:20231107T000234Z
LAST-MODIFIED:20231107T000234Z
UID:2306-1700071200-1700074800@www.gmztame.org
SUMMARY:Bible Study Series: From A Black Liberation Perspective
DESCRIPTION:From A Black Liberation Perspective\nBible Study Series\nEvery Wednesday @ 6pm\nZoom Info: \nMeeting ID: 748 598 2200 \nCall In: 646-558-8656
URL:https://www.gmztame.org/event/bible-study-series-from-a-black-liberation-perspective-11-15/
LOCATION:Online
CATEGORIES:Bible Study
ATTACH;FMTTYPE=image/png:https://www.gmztame.org/wp-content/uploads/2023/09/Bible-Study-9.6.png
ORGANIZER;CN="GMZAME":MAILTO:noreply@example.com
END:VEVENT
BEGIN:VEVENT
DTSTART;TZID=America/New_York:20231114T190000
DTEND;TZID=America/New_York:20231114T200000
DTSTAMP:20260420T111931
CREATED:20231106T235546Z
LAST-MODIFIED:20231106T235546Z
UID:2299-1699988400-1699992000@www.gmztame.org
SUMMARY:Young Adult Bible Study
DESCRIPTION:Young Adult Bible Study\nMin. Brandon Bradley\, Rev. Ari Johnson & Min. Amber Scott\nEvery 2nd & 4th Tuesday @ 7pm\nZoom Info:\nMeeting ID: 882 844 1736\nCall In: 646-518-9805
URL:https://www.gmztame.org/event/young-adult-bible-study-11-14/
LOCATION:Online
CATEGORIES:Bible Study
ATTACH;FMTTYPE=image/png:https://www.gmztame.org/wp-content/uploads/2023/11/YA-Bible-Study.2-2.png
ORGANIZER;CN="GMZAME":MAILTO:noreply@example.com
END:VEVENT
BEGIN:VEVENT
DTSTART;TZID=America/New_York:20231108T180000
DTEND;TZID=America/New_York:20231108T190000
DTSTAMP:20260420T111931
CREATED:20231107T000157Z
LAST-MODIFIED:20231107T000157Z
UID:2304-1699466400-1699470000@www.gmztame.org
SUMMARY:Bible Study Series: From A Black Liberation Perspective
DESCRIPTION:From A Black Liberation Perspective\nBible Study Series\nEvery Wednesday @ 6pm\nZoom Info: \nMeeting ID: 748 598 2200 \nCall In: 646-558-8656
URL:https://www.gmztame.org/event/bible-study-series-from-a-black-liberation-perspective-11-8/
LOCATION:Online
CATEGORIES:Bible Study
ATTACH;FMTTYPE=image/png:https://www.gmztame.org/wp-content/uploads/2023/09/Bible-Study-9.6.png
ORGANIZER;CN="GMZAME":MAILTO:noreply@example.com
END:VEVENT
BEGIN:VEVENT
DTSTART;TZID=America/New_York:20231029T100000
DTEND;TZID=America/New_York:20231029T120000
DTSTAMP:20260420T111931
CREATED:20230905T181537Z
LAST-MODIFIED:20230905T181537Z
UID:2260-1698573600-1698580800@www.gmztame.org
SUMMARY:October Preaching Series
DESCRIPTION:Greater Mt. Zion African Methodist Episcopal Church\nSeptember & October Preaching Series\nHip Hop Liberation Theology\nJoin Us In-Person or Facebook Live\nRev. Dr. Charles F. Boyer
URL:https://www.gmztame.org/event/october-preaching-series-10-29/
LOCATION:Greater Mount Zion AME\, 42 Pennington Ave\, Trenton\, NJ\, 08618\, United States
CATEGORIES:Sunday Service
ATTACH;FMTTYPE=image/jpeg:https://www.gmztame.org/wp-content/uploads/2023/09/September.Oct-Preaching-Series67.jpg
ORGANIZER;CN="GMZAME":MAILTO:noreply@example.com
END:VEVENT
BEGIN:VEVENT
DTSTART;TZID=America/New_York:20231022T100000
DTEND;TZID=America/New_York:20231022T120000
DTSTAMP:20260420T111931
CREATED:20230905T181511Z
LAST-MODIFIED:20230905T181511Z
UID:2258-1697968800-1697976000@www.gmztame.org
SUMMARY:October Preaching Series
DESCRIPTION:Greater Mt. Zion African Methodist Episcopal Church\nSeptember & October Preaching Series\nHip Hop Liberation Theology\nJoin Us In-Person or Facebook Live\nRev. Dr. Charles F. Boyer
URL:https://www.gmztame.org/event/october-preaching-series-10-22/
LOCATION:Greater Mount Zion AME\, 42 Pennington Ave\, Trenton\, NJ\, 08618\, United States
CATEGORIES:Sunday Service
ATTACH;FMTTYPE=image/jpeg:https://www.gmztame.org/wp-content/uploads/2023/09/September.Oct-Preaching-Series67.jpg
ORGANIZER;CN="GMZAME":MAILTO:noreply@example.com
END:VEVENT
BEGIN:VEVENT
DTSTART;TZID=America/New_York:20231015T100000
DTEND;TZID=America/New_York:20231015T120000
DTSTAMP:20260420T111931
CREATED:20230905T181448Z
LAST-MODIFIED:20230905T181448Z
UID:2256-1697364000-1697371200@www.gmztame.org
SUMMARY:October Preaching Series
DESCRIPTION:Greater Mt. Zion African Methodist Episcopal Church\nSeptember & October Preaching Series\nHip Hop Liberation Theology\nJoin Us In-Person or Facebook Live\nRev. Dr. Charles F. Boyer
URL:https://www.gmztame.org/event/october-preaching-series-10-15/
LOCATION:Greater Mount Zion AME\, 42 Pennington Ave\, Trenton\, NJ\, 08618\, United States
CATEGORIES:Sunday Service
ATTACH;FMTTYPE=image/jpeg:https://www.gmztame.org/wp-content/uploads/2023/09/September.Oct-Preaching-Series67.jpg
ORGANIZER;CN="GMZAME":MAILTO:noreply@example.com
END:VEVENT
BEGIN:VEVENT
DTSTART;TZID=America/New_York:20231008T100000
DTEND;TZID=America/New_York:20231008T120000
DTSTAMP:20260420T111931
CREATED:20230905T185712Z
LAST-MODIFIED:20230905T185712Z
UID:2262-1696759200-1696766400@www.gmztame.org
SUMMARY:Celebrating Men's Day
DESCRIPTION:Celebrating Men’s Day\nRev. Dr. Charles F. Boyer\, Pastor\nGreater Mount Zion African Methodist Episcopal Church\nGuest Preacher:\nRev. John Taylor\, Pastor\nGreater Friendship Baptist Church in Trenton
URL:https://www.gmztame.org/event/celebrating-mens-day-10-8/
LOCATION:Greater Mount Zion AME\, 42 Pennington Ave\, Trenton\, NJ\, 08618\, United States
CATEGORIES:Community
ATTACH;FMTTYPE=image/jpeg:https://www.gmztame.org/wp-content/uploads/2023/09/MENS-DAY-2023.jpeg
ORGANIZER;CN="GMZAME":MAILTO:noreply@example.com
END:VEVENT
BEGIN:VEVENT
DTSTART;TZID=America/New_York:20231008T100000
DTEND;TZID=America/New_York:20231008T120000
DTSTAMP:20260420T111931
CREATED:20230905T181421Z
LAST-MODIFIED:20230905T181421Z
UID:2254-1696759200-1696766400@www.gmztame.org
SUMMARY:October Preaching Series
DESCRIPTION:Greater Mt. Zion African Methodist Episcopal Church\nSeptember & October Preaching Series\nHip Hop Liberation Theology\nJoin Us In-Person or Facebook Live\nRev. Dr. Charles F. Boyer
URL:https://www.gmztame.org/event/october-preaching-series-10-8/
LOCATION:Greater Mount Zion AME\, 42 Pennington Ave\, Trenton\, NJ\, 08618\, United States
CATEGORIES:Sunday Service
ATTACH;FMTTYPE=image/jpeg:https://www.gmztame.org/wp-content/uploads/2023/09/September.Oct-Preaching-Series67.jpg
ORGANIZER;CN="GMZAME":MAILTO:noreply@example.com
END:VEVENT
BEGIN:VEVENT
DTSTART;TZID=America/New_York:20231001T100000
DTEND;TZID=America/New_York:20231001T120000
DTSTAMP:20260420T111931
CREATED:20230905T181352Z
LAST-MODIFIED:20230905T181352Z
UID:2252-1696154400-1696161600@www.gmztame.org
SUMMARY:October Preaching Series
DESCRIPTION:Greater Mt. Zion African Methodist Episcopal Church\nSeptember & October Preaching Series\nHip Hop Liberation Theology\nJoin Us In-Person or Facebook Live\nRev. Dr. Charles F. Boyer
URL:https://www.gmztame.org/event/october-preaching-series-10-1/
LOCATION:Greater Mount Zion AME\, 42 Pennington Ave\, Trenton\, NJ\, 08618\, United States
CATEGORIES:Sunday Service
ATTACH;FMTTYPE=image/jpeg:https://www.gmztame.org/wp-content/uploads/2023/09/September.Oct-Preaching-Series67.jpg
ORGANIZER;CN="GMZAME":MAILTO:noreply@example.com
END:VEVENT
BEGIN:VEVENT
DTSTART;TZID=America/New_York:20230927T180000
DTEND;TZID=America/New_York:20230927T190000
DTSTAMP:20260420T111931
CREATED:20230905T193316Z
LAST-MODIFIED:20230905T193329Z
UID:2283-1695837600-1695841200@www.gmztame.org
SUMMARY:Bible Study Series: From A Black Liberation Perspective
DESCRIPTION:From A Black Liberation Perspective\nBible Study Series\nEvery Wednesday @ 6pm\nZoom Info: \nMeeting ID: 748 598 2200 \nCall In: 646-558-8656
URL:https://www.gmztame.org/event/bible-study-series-9-27/
LOCATION:Online
CATEGORIES:Bible Study
ATTACH;FMTTYPE=image/png:https://www.gmztame.org/wp-content/uploads/2023/09/Bible-Study-9.6.png
ORGANIZER;CN="GMZAME":MAILTO:noreply@example.com
END:VEVENT
BEGIN:VEVENT
DTSTART;TZID=America/New_York:20230924T130000
DTEND;TZID=America/New_York:20230924T160000
DTSTAMP:20260420T111931
CREATED:20230905T190651Z
LAST-MODIFIED:20230905T190759Z
UID:2264-1695560400-1695571200@www.gmztame.org
SUMMARY:Peace Walk
DESCRIPTION:The Trenton Restorative Street Team & Salvation and Social Justice Present:\nPeace Walk\nA City-Wide March To Call Out Gun Violence In Our Community!\n“We Hurt Together. We Heal Together. We Hope Together”\n\nWest Trenton Walk Location:\nWest State & Parkside\nEast Trenton Walk Location:\nGreg Grant Park\nSouth Trenton Walk Location:\nBroad & Liberty\nNorth Trenton Walk Location:\nFather Rocco Park\nFINAL Walk Destination / Celebration\nMill Hill Park\, Trenton\, NJ
URL:https://www.gmztame.org/event/peace-walk/
LOCATION:Greater Mount Zion AME\, 42 Pennington Ave\, Trenton\, NJ\, 08618\, United States
CATEGORIES:Community
ATTACH;FMTTYPE=image/jpeg:https://www.gmztame.org/wp-content/uploads/2023/09/Peace-Walk-2023.Street-Team.jpg
ORGANIZER;CN="GMZAME":MAILTO:noreply@example.com
END:VEVENT
BEGIN:VEVENT
DTSTART;TZID=America/New_York:20230924T100000
DTEND;TZID=America/New_York:20230924T120000
DTSTAMP:20260420T111931
CREATED:20230905T181309Z
LAST-MODIFIED:20230905T181309Z
UID:2250-1695549600-1695556800@www.gmztame.org
SUMMARY:September Preaching Series
DESCRIPTION:Greater Mt. Zion African Methodist Episcopal Church\nSeptember & October Preaching Series\nHip Hop Liberation Theology\nJoin Us In-Person or Facebook Live\nRev. Dr. Charles F. Boyer
URL:https://www.gmztame.org/event/september-preaching-series-9-24/
LOCATION:Greater Mount Zion AME\, 42 Pennington Ave\, Trenton\, NJ\, 08618\, United States
CATEGORIES:Sunday Service
ATTACH;FMTTYPE=image/jpeg:https://www.gmztame.org/wp-content/uploads/2023/09/September.Oct-Preaching-Series67.jpg
ORGANIZER;CN="GMZAME":MAILTO:noreply@example.com
END:VEVENT
BEGIN:VEVENT
DTSTART;TZID=America/New_York:20230920T180000
DTEND;TZID=America/New_York:20230920T190000
DTSTAMP:20260420T111931
CREATED:20230905T193251Z
LAST-MODIFIED:20230905T193356Z
UID:2281-1695232800-1695236400@www.gmztame.org
SUMMARY:Bible Study Series: From A Black Liberation Perspective
DESCRIPTION:From A Black Liberation Perspective\nBible Study Series\nEvery Wednesday @ 6pm\nZoom Info: \nMeeting ID: 748 598 2200 \nCall In: 646-558-8656
URL:https://www.gmztame.org/event/bible-study-series-9-20/
LOCATION:Online
CATEGORIES:Bible Study
ATTACH;FMTTYPE=image/png:https://www.gmztame.org/wp-content/uploads/2023/09/Bible-Study-9.6.png
ORGANIZER;CN="GMZAME":MAILTO:noreply@example.com
END:VEVENT
BEGIN:VEVENT
DTSTART;TZID=America/New_York:20230917T100000
DTEND;TZID=America/New_York:20230917T120000
DTSTAMP:20260420T111931
CREATED:20230905T181231Z
LAST-MODIFIED:20230905T181231Z
UID:2248-1694944800-1694952000@www.gmztame.org
SUMMARY:September Preaching Series
DESCRIPTION:Greater Mt. Zion African Methodist Episcopal Church\nSeptember & October Preaching Series\nHip Hop Liberation Theology\nJoin Us In-Person or Facebook Live\nRev. Dr. Charles F. Boyer
URL:https://www.gmztame.org/event/september-preaching-series-9-17/
LOCATION:Greater Mount Zion AME\, 42 Pennington Ave\, Trenton\, NJ\, 08618\, United States
CATEGORIES:Sunday Service
ATTACH;FMTTYPE=image/jpeg:https://www.gmztame.org/wp-content/uploads/2023/09/September.Oct-Preaching-Series67.jpg
ORGANIZER;CN="GMZAME":MAILTO:noreply@example.com
END:VEVENT
END:VCALENDAR