BEGIN:VCALENDAR
VERSION:2.0
PRODID:-//Greater Mount Zion AME - ECPv6.15.20//NONSGML v1.0//EN
CALSCALE:GREGORIAN
METHOD:PUBLISH
X-ORIGINAL-URL:https://www.gmztame.org
X-WR-CALDESC:Events for Greater Mount Zion AME
REFRESH-INTERVAL;VALUE=DURATION:PT1H
X-Robots-Tag:noindex
X-PUBLISHED-TTL:PT1H
BEGIN:VTIMEZONE
TZID:America/New_York
BEGIN:DAYLIGHT
TZOFFSETFROM:-0500
TZOFFSETTO:-0400
TZNAME:EDT
DTSTART:20220313T070000
END:DAYLIGHT
BEGIN:STANDARD
TZOFFSETFROM:-0400
TZOFFSETTO:-0500
TZNAME:EST
DTSTART:20221106T060000
END:STANDARD
BEGIN:DAYLIGHT
TZOFFSETFROM:-0500
TZOFFSETTO:-0400
TZNAME:EDT
DTSTART:20230312T070000
END:DAYLIGHT
BEGIN:STANDARD
TZOFFSETFROM:-0400
TZOFFSETTO:-0500
TZNAME:EST
DTSTART:20231105T060000
END:STANDARD
BEGIN:DAYLIGHT
TZOFFSETFROM:-0500
TZOFFSETTO:-0400
TZNAME:EDT
DTSTART:20240310T070000
END:DAYLIGHT
BEGIN:STANDARD
TZOFFSETFROM:-0400
TZOFFSETTO:-0500
TZNAME:EST
DTSTART:20241103T060000
END:STANDARD
END:VTIMEZONE
BEGIN:VEVENT
DTSTART;TZID=America/New_York:20230916T100000
DTEND;TZID=America/New_York:20230916T120000
DTSTAMP:20260420T164017
CREATED:20230905T180903Z
LAST-MODIFIED:20230905T180929Z
UID:2239-1694858400-1694865600@www.gmztame.org
SUMMARY:Food Giveaway For The Community
DESCRIPTION:Food Giveaway For The Community\nLimited Supplies\nGreater Mt. Zion AME Church & Myra Ashley Missionary Society
URL:https://www.gmztame.org/event/food-giveaway-for-the-community-9-16/
LOCATION:Greater Mount Zion AME\, 42 Pennington Ave\, Trenton\, NJ\, 08618\, United States
CATEGORIES:Community
ATTACH;FMTTYPE=image/jpeg:https://www.gmztame.org/wp-content/uploads/2023/09/Food-giveaway-Flyer-9.2023.jpg
ORGANIZER;CN="GMZAME":MAILTO:noreply@example.com
END:VEVENT
BEGIN:VEVENT
DTSTART;TZID=America/New_York:20230913T180000
DTEND;TZID=America/New_York:20230913T190000
DTSTAMP:20260420T164017
CREATED:20230905T193230Z
LAST-MODIFIED:20230905T193230Z
UID:2279-1694628000-1694631600@www.gmztame.org
SUMMARY:Bible Study Series: From A Black Liberation Perspective
DESCRIPTION:From A Black Liberation Perspective\nBible Study Series\nEvery Wednesday @ 6pm\nZoom Info: \nMeeting ID: 748 598 2200 \nCall In: 646-558-8656
URL:https://www.gmztame.org/event/bible-study-series-9-13/
LOCATION:Online
CATEGORIES:Bible Study
ATTACH;FMTTYPE=image/png:https://www.gmztame.org/wp-content/uploads/2023/09/Bible-Study-9.6.png
ORGANIZER;CN="GMZAME":MAILTO:noreply@example.com
END:VEVENT
BEGIN:VEVENT
DTSTART;TZID=America/New_York:20230913T100000
DTEND;TZID=America/New_York:20230913T140000
DTSTAMP:20260420T164017
CREATED:20230905T192243Z
LAST-MODIFIED:20230905T192427Z
UID:2272-1694599200-1694613600@www.gmztame.org
SUMMARY:Interfaith Suicide Awareness Seminar
DESCRIPTION:Calling all of our Community Faith Based Leaders! Join Us to learn about community resources available to our veterans in crisis.\nLunch and refreshments will be served!\nPresentations by Community Leaders and the Department of Veteran Affairs Suicide Community Engagement Team\nGreater Mt. Zion Church\, 42 Pennington Ave\, Trenton\, NJ 08618\nSeptember 13th\, 2023 10:00 a.m.- 2:00 p.m.\nR.S.V.P.at DPearson@catholicharities.org or NJSOSVets@gmail.com\nSpecial thanks to The Rev.Dr. Charles F. Boyer and The Rev. Allan Boyer for your leadership and support for the veteran community.
URL:https://www.gmztame.org/event/interfaith-suicide-awareness-seminar/
LOCATION:Greater Mount Zion AME\, 42 Pennington Ave\, Trenton\, NJ\, 08618\, United States
CATEGORIES:Community
ATTACH;FMTTYPE=image/jpeg:https://www.gmztame.org/wp-content/uploads/2023/09/Veterans-flyer-2023.2.jpg
ORGANIZER;CN="GMZAME":MAILTO:noreply@example.com
END:VEVENT
BEGIN:VEVENT
DTSTART;TZID=America/New_York:20230910T100000
DTEND;TZID=America/New_York:20230910T120000
DTSTAMP:20260420T164017
CREATED:20230905T181155Z
LAST-MODIFIED:20230905T181155Z
UID:2246-1694340000-1694347200@www.gmztame.org
SUMMARY:September Preaching Series
DESCRIPTION:Greater Mt. Zion African Methodist Episcopal Church\nSeptember & October Preaching Series\nHip Hop Liberation Theology\nJoin Us In-Person or Facebook Live\nRev. Dr. Charles F. Boyer
URL:https://www.gmztame.org/event/september-preaching-series-9-10/
LOCATION:Greater Mount Zion AME\, 42 Pennington Ave\, Trenton\, NJ\, 08618\, United States
CATEGORIES:Sunday Service
ATTACH;FMTTYPE=image/jpeg:https://www.gmztame.org/wp-content/uploads/2023/09/September.Oct-Preaching-Series67.jpg
ORGANIZER;CN="GMZAME":MAILTO:noreply@example.com
END:VEVENT
BEGIN:VEVENT
DTSTART;TZID=America/New_York:20230908T160000
DTEND;TZID=America/New_York:20230908T180000
DTSTAMP:20260420T164017
CREATED:20230905T191503Z
LAST-MODIFIED:20230905T191503Z
UID:2269-1694188800-1694196000@www.gmztame.org
SUMMARY:Stretch & Breathe
DESCRIPTION:Greater Mount Zion Women’s Fellowship Presents:\nStretch & Breathe\nSpecial Guest: Shadura Lee\nSuggested:\nBring a yoga mat/blanket\, wear stretchy clothes and bring water\nFor more info\, please see Sis. Eileen Peterson
URL:https://www.gmztame.org/event/stretch-and-breathe-9-8/
LOCATION:Greater Mount Zion AME\, 42 Pennington Ave\, Trenton\, NJ\, 08618\, United States
CATEGORIES:Community
ATTACH;FMTTYPE=image/png:https://www.gmztame.org/wp-content/uploads/2023/09/Stretch-and-Breathe.png
ORGANIZER;CN="GMZAME":MAILTO:noreply@example.com
END:VEVENT
BEGIN:VEVENT
DTSTART;TZID=America/New_York:20230906T180000
DTEND;TZID=America/New_York:20230906T190000
DTSTAMP:20260420T164017
CREATED:20230905T193150Z
LAST-MODIFIED:20230905T193150Z
UID:2276-1694023200-1694026800@www.gmztame.org
SUMMARY:Bible Study Series: From A Black Liberation Perspective
DESCRIPTION:From A Black Liberation Perspective\nBible Study Series\nEvery Wednesday @ 6pm\nZoom Info: \nMeeting ID: 748 598 2200 \nCall In: 646-558-8656
URL:https://www.gmztame.org/event/bible-study-series-9-6/
LOCATION:Online
CATEGORIES:Bible Study
ATTACH;FMTTYPE=image/png:https://www.gmztame.org/wp-content/uploads/2023/09/Bible-Study-9.6.png
ORGANIZER;CN="GMZAME":MAILTO:noreply@example.com
END:VEVENT
BEGIN:VEVENT
DTSTART;TZID=America/New_York:20230827T100000
DTEND;TZID=America/New_York:20230827T120000
DTSTAMP:20260420T164017
CREATED:20230815T191526Z
LAST-MODIFIED:20230815T191526Z
UID:2221-1693130400-1693137600@www.gmztame.org
SUMMARY:August Preaching Series
DESCRIPTION:Greater Mt. Zion African Methodist Episcopal Church\nAugust Preaching Series\nSalvation & Soul Music continued…\nJoin Us In-Person or Facebook Live\nRev. Dr. Charles F. Boyer
URL:https://www.gmztame.org/event/august-preaching-series-27/
LOCATION:Greater Mount Zion AME\, 42 Pennington Ave\, Trenton\, NJ\, 08618\, United States
CATEGORIES:Sunday Service
ATTACH;FMTTYPE=image/jpeg:https://www.gmztame.org/wp-content/uploads/2023/08/Aug-Preaching-Series.2321.jpg
ORGANIZER;CN="GMZAME":MAILTO:noreply@example.com
END:VEVENT
BEGIN:VEVENT
DTSTART;TZID=America/New_York:20230820T100000
DTEND;TZID=America/New_York:20230820T120000
DTSTAMP:20260420T164017
CREATED:20230815T191448Z
LAST-MODIFIED:20230815T191448Z
UID:2217-1692525600-1692532800@www.gmztame.org
SUMMARY:August Preaching Series
DESCRIPTION:Greater Mt. Zion African Methodist Episcopal Church\nAugust Preaching Series\nSalvation & Soul Music continued…\nJoin Us In-Person or Facebook Live\nRev. Dr. Charles F. Boyer
URL:https://www.gmztame.org/event/august-preaching-series-20/
LOCATION:Greater Mount Zion AME\, 42 Pennington Ave\, Trenton\, NJ\, 08618\, United States
CATEGORIES:Sunday Service
ATTACH;FMTTYPE=image/jpeg:https://www.gmztame.org/wp-content/uploads/2023/08/Aug-Preaching-Series.2321.jpg
ORGANIZER;CN="GMZAME":MAILTO:noreply@example.com
END:VEVENT
BEGIN:VEVENT
DTSTART;TZID=America/New_York:20230819T100000
DTEND;TZID=America/New_York:20230819T120000
DTSTAMP:20260420T164017
CREATED:20230815T191703Z
LAST-MODIFIED:20230815T191703Z
UID:2223-1692439200-1692446400@www.gmztame.org
SUMMARY:Food Giveaway For The Community
DESCRIPTION:Food Giveaway For The Community\nLimited Supplies\nGreater Mt. Zion AME Church & Myra Ashley Missionary Society
URL:https://www.gmztame.org/event/food-giveaway-for-the-community-19/
LOCATION:Greater Mount Zion AME\, 42 Pennington Ave\, Trenton\, NJ\, 08618\, United States
CATEGORIES:Community
ATTACH;FMTTYPE=image/jpeg:https://www.gmztame.org/wp-content/uploads/2023/08/August-Food-giveaway-Flyer-1782-1.jpg
ORGANIZER;CN="GMZAME":MAILTO:noreply@example.com
END:VEVENT
BEGIN:VEVENT
DTSTART;TZID=America/New_York:20230730T100000
DTEND;TZID=America/New_York:20230730T120000
DTSTAMP:20260420T164017
CREATED:20230702T042859Z
LAST-MODIFIED:20230702T042859Z
UID:2195-1690711200-1690718400@www.gmztame.org
SUMMARY:July Preaching Series
DESCRIPTION:Greater Mt. Zion African Methodist Episcopal Church\nJuly Preaching Series\nSalvation & Soul Music\nJoin Us In-Person or Facebook Live\nRev. Dr. Charles F. Boyer
URL:https://www.gmztame.org/event/july-preaching-series-30/
LOCATION:Greater Mount Zion AME\, 42 Pennington Ave\, Trenton\, NJ\, 08618\, United States
CATEGORIES:Sunday Service
ATTACH;FMTTYPE=image/png:https://www.gmztame.org/wp-content/uploads/2023/07/805EDD3748364905B2914E296D7FEDF657.png
ORGANIZER;CN="GMZAME":MAILTO:noreply@example.com
END:VEVENT
BEGIN:VEVENT
DTSTART;TZID=America/New_York:20230723T100000
DTEND;TZID=America/New_York:20230723T120000
DTSTAMP:20260420T164017
CREATED:20230702T042831Z
LAST-MODIFIED:20230702T043442Z
UID:2193-1690106400-1690113600@www.gmztame.org
SUMMARY:2nd Pastoral Anniversary
DESCRIPTION:Greater Mt. Zion African Methodist Episcopal Church\nCelebrating the 2nd Pastoral Anniversary of Rev. Dr. Charles F. Boyer\nGuest Preacher\nThe Rt. Rev. Francine Brookins\, Presiding Prelate of the 18th Episcopal District\nJoin Us In-Person or Facebook Live
URL:https://www.gmztame.org/event/second-pastoral-anniversary/
LOCATION:Greater Mount Zion AME\, 42 Pennington Ave\, Trenton\, NJ\, 08618\, United States
CATEGORIES:Sunday Service
ATTACH;FMTTYPE=image/jpeg:https://www.gmztame.org/wp-content/uploads/2023/07/IMG_3056.jpeg
ORGANIZER;CN="GMZAME":MAILTO:noreply@example.com
END:VEVENT
BEGIN:VEVENT
DTSTART;TZID=America/New_York:20230716T100000
DTEND;TZID=America/New_York:20230716T120000
DTSTAMP:20260420T164017
CREATED:20230702T042804Z
LAST-MODIFIED:20230702T042804Z
UID:2191-1689501600-1689508800@www.gmztame.org
SUMMARY:July Preaching Series
DESCRIPTION:Greater Mt. Zion African Methodist Episcopal Church\nJuly Preaching Series\nSalvation & Soul Music\nJoin Us In-Person or Facebook Live\nRev. Dr. Charles F. Boyer
URL:https://www.gmztame.org/event/july-preaching-series-16/
LOCATION:Greater Mount Zion AME\, 42 Pennington Ave\, Trenton\, NJ\, 08618\, United States
CATEGORIES:Sunday Service
ATTACH;FMTTYPE=image/png:https://www.gmztame.org/wp-content/uploads/2023/07/805EDD3748364905B2914E296D7FEDF657.png
ORGANIZER;CN="GMZAME":MAILTO:noreply@example.com
END:VEVENT
BEGIN:VEVENT
DTSTART;TZID=America/New_York:20230715T100000
DTEND;TZID=America/New_York:20230715T120000
DTSTAMP:20260420T164017
CREATED:20230702T042223Z
LAST-MODIFIED:20230702T042223Z
UID:2184-1689415200-1689422400@www.gmztame.org
SUMMARY:Food Giveaway For The Community
DESCRIPTION:Food Giveaway For The Community\nLimited Supplies\nGreater Mt. Zion AME Church & Myra Ashley Missionary Society
URL:https://www.gmztame.org/event/food-giveaway-for-the-community-15/
LOCATION:Greater Mount Zion AME\, 42 Pennington Ave\, Trenton\, NJ\, 08618\, United States
CATEGORIES:Community
ATTACH;FMTTYPE=image/jpeg:https://www.gmztame.org/wp-content/uploads/2023/07/July-23-Food-giveaway-Flyer.jpg
ORGANIZER;CN="GMZAME":MAILTO:noreply@example.com
END:VEVENT
BEGIN:VEVENT
DTSTART;TZID=America/New_York:20230709T100000
DTEND;TZID=America/New_York:20230709T120000
DTSTAMP:20260420T164017
CREATED:20230702T042728Z
LAST-MODIFIED:20230702T042728Z
UID:2189-1688896800-1688904000@www.gmztame.org
SUMMARY:July Preaching Series
DESCRIPTION:Greater Mt. Zion African Methodist Episcopal Church\nJuly Preaching Series\nSalvation & Soul Music\nJoin Us In-Person or Facebook Live\nRev. Dr. Charles F. Boyer
URL:https://www.gmztame.org/event/july-preaching-series-9/
LOCATION:Greater Mount Zion AME\, 42 Pennington Ave\, Trenton\, NJ\, 08618\, United States
CATEGORIES:Sunday Service
ATTACH;FMTTYPE=image/png:https://www.gmztame.org/wp-content/uploads/2023/07/805EDD3748364905B2914E296D7FEDF657.png
ORGANIZER;CN="GMZAME":MAILTO:noreply@example.com
END:VEVENT
BEGIN:VEVENT
DTSTART;TZID=America/New_York:20230702T100000
DTEND;TZID=America/New_York:20230702T120000
DTSTAMP:20260420T164017
CREATED:20230702T042642Z
LAST-MODIFIED:20230702T042642Z
UID:2186-1688292000-1688299200@www.gmztame.org
SUMMARY:July Preaching Series
DESCRIPTION:Greater Mt. Zion African Methodist Episcopal Church\nJuly Preaching Series\nSalvation & Soul Music\nJoin Us In-Person or Facebook Live\nRev. Dr. Charles F. Boyer
URL:https://www.gmztame.org/event/july-preaching-series/
LOCATION:Greater Mount Zion AME\, 42 Pennington Ave\, Trenton\, NJ\, 08618\, United States
CATEGORIES:Sunday Service
ATTACH;FMTTYPE=image/png:https://www.gmztame.org/wp-content/uploads/2023/07/805EDD3748364905B2914E296D7FEDF657.png
ORGANIZER;CN="GMZAME":MAILTO:noreply@example.com
END:VEVENT
BEGIN:VEVENT
DTSTART;TZID=America/New_York:20230617T100000
DTEND;TZID=America/New_York:20230617T120000
DTSTAMP:20260420T164017
CREATED:20230607T030444Z
LAST-MODIFIED:20230607T030444Z
UID:2166-1686996000-1687003200@www.gmztame.org
SUMMARY:Food Giveaway For The Community
DESCRIPTION:Food Giveaway For The Community\nLimited Supplies\nGreater Mt. Zion AME Church & Myra Ashley Missionary Society
URL:https://www.gmztame.org/event/food-giveaway-for-the-community-17/
LOCATION:Greater Mount Zion AME\, 42 Pennington Ave\, Trenton\, NJ\, 08618\, United States
CATEGORIES:Community
ATTACH;FMTTYPE=image/jpeg:https://www.gmztame.org/wp-content/uploads/2023/06/June-Food-Giveaway.2023.jpeg
ORGANIZER;CN="GMZAME":MAILTO:noreply@example.com
END:VEVENT
BEGIN:VEVENT
DTSTART;VALUE=DATE:20230615
DTEND;VALUE=DATE:20230618
DTSTAMP:20260420T164017
CREATED:20230607T031450Z
LAST-MODIFIED:20230607T031450Z
UID:2171-1686787200-1687046399@www.gmztame.org
SUMMARY:Save The Date - Post Conference Convocation
DESCRIPTION:The First Episcopal District\nof The African Episcopal Church\nTheme…\n“The Church Is Moving On”\nCandidates will address members of the First District ONLY ON Friday\, June 16th 12-12:30pm\n3801 Market St\, Philadelphia\, PA 19104\nLeadership\nBishop Julius Harrison McAllister\, Sr.\nPresiding Prelate\, 1st Episcopal District\nMother Joan Marla McAllister\nEpiscopal Supervisor\, 1st Episcopal District
URL:https://www.gmztame.org/event/save-the-date-post-conference-convocation/
LOCATION:NJ
CATEGORIES:Community
ATTACH;FMTTYPE=image/jpeg:https://www.gmztame.org/wp-content/uploads/2023/06/Post-Conference-flyer.jpeg
ORGANIZER;CN="GMZAME":MAILTO:noreply@example.com
END:VEVENT
BEGIN:VEVENT
DTSTART;TZID=America/New_York:20230520T150000
DTEND;TZID=America/New_York:20230520T170000
DTSTAMP:20260420T164017
CREATED:20230329T013703Z
LAST-MODIFIED:20230329T013703Z
UID:2164-1684594800-1684602000@www.gmztame.org
SUMMARY:Sanctuary Dedication
DESCRIPTION:Greater Mt. Zion African Methodist Episcopal Church\nSanctuary Dedication\n“You Are Cordially Invited To Worship And Celebrate With Us As We Dedicate Our Sanctuary”\nGuest Preacher\nThe Right Reverend Julius H. McAllister\, Sr.\nPresiding Prelate First Episcopal District\nRev. Dr. Charles F. Boyer\, Pastor\nFirst Lady Rosalee Boyer
URL:https://www.gmztame.org/event/sanctuary-dedication/
LOCATION:Greater Mount Zion AME\, 42 Pennington Ave\, Trenton\, NJ\, 08618\, United States
CATEGORIES:Community
ATTACH;FMTTYPE=image/jpeg:https://www.gmztame.org/wp-content/uploads/2023/03/Sanctuary-Ded-Flyer.2.jpeg
ORGANIZER;CN="GMZAME":MAILTO:noreply@example.com
END:VEVENT
BEGIN:VEVENT
DTSTART;TZID=America/New_York:20230430T100000
DTEND;TZID=America/New_York:20230430T120000
DTSTAMP:20260420T164017
CREATED:20230329T010305Z
LAST-MODIFIED:20230329T010305Z
UID:2154-1682848800-1682856000@www.gmztame.org
SUMMARY:April Preaching & Teaching Series
DESCRIPTION:Greater Mt. Zion African Methodist Episcopal Church\nApril Preaching & Teaching Series\nThe Liberating Gospel pt. 2\nJoin Us In-Person or Facebook Live\nRev. Dr. Charles F. Boyer\, Pastor First Lady Rosalee Boyer
URL:https://www.gmztame.org/event/april-preaching-teaching-series-30/
LOCATION:Greater Mount Zion AME\, 42 Pennington Ave\, Trenton\, NJ\, 08618\, United States
CATEGORIES:Sunday Service
ATTACH;FMTTYPE=image/jpeg:https://www.gmztame.org/wp-content/uploads/2023/03/Image69.jpeg
ORGANIZER;CN="GMZAME":MAILTO:noreply@example.com
END:VEVENT
BEGIN:VEVENT
DTSTART;TZID=America/New_York:20230423T100000
DTEND;TZID=America/New_York:20230423T120000
DTSTAMP:20260420T164017
CREATED:20230329T010234Z
LAST-MODIFIED:20230329T012152Z
UID:2152-1682244000-1682251200@www.gmztame.org
SUMMARY:Installation of Officers Sunday
DESCRIPTION:Greater Mt. Zion African Methodist Episcopal Church\nInstallation of Officers Sunday\nGuest Preacher\nPresiding Elder Janet Jenkins Sturdivant\nJoin Us In-Person or Facebook Live\nRev. Dr. Charles F. Boyer\, Pastor First Lady Rosalee Boyer
URL:https://www.gmztame.org/event/installation-of-officers-sunday/
LOCATION:Greater Mount Zion AME\, 42 Pennington Ave\, Trenton\, NJ\, 08618\, United States
CATEGORIES:Sunday Service
ATTACH;FMTTYPE=image/png:https://www.gmztame.org/wp-content/uploads/2023/03/Installation-officer.png
ORGANIZER;CN="GMZAME":MAILTO:noreply@example.com
END:VEVENT
BEGIN:VEVENT
DTSTART;TZID=America/New_York:20230416T100000
DTEND;TZID=America/New_York:20230416T120000
DTSTAMP:20260420T164017
CREATED:20230329T005938Z
LAST-MODIFIED:20230329T005938Z
UID:2150-1681639200-1681646400@www.gmztame.org
SUMMARY:April Preaching & Teaching Series
DESCRIPTION:Greater Mt. Zion African Methodist Episcopal Church\nApril Preaching & Teaching Series\nThe Liberating Gospel pt. 2\nJoin Us In-Person or Facebook Live\nRev. Dr. Charles F. Boyer\, Pastor First Lady Rosalee Boyer
URL:https://www.gmztame.org/event/april-preaching-teaching-series-16/
LOCATION:Greater Mount Zion AME\, 42 Pennington Ave\, Trenton\, NJ\, 08618\, United States
CATEGORIES:Sunday Service
ATTACH;FMTTYPE=image/jpeg:https://www.gmztame.org/wp-content/uploads/2023/03/Image69.jpeg
ORGANIZER;CN="GMZAME":MAILTO:noreply@example.com
END:VEVENT
BEGIN:VEVENT
DTSTART;TZID=America/New_York:20230415T100000
DTEND;TZID=America/New_York:20230415T120000
DTSTAMP:20260420T164017
CREATED:20230329T011734Z
LAST-MODIFIED:20230329T011734Z
UID:2160-1681552800-1681560000@www.gmztame.org
SUMMARY:Food Giveaway For The Community
DESCRIPTION:Food Giveaway For The Community\nLimited Supplies\nGreater Mt. Zion AME Church & Myra Ashley Missionary Society
URL:https://www.gmztame.org/event/food-giveaway-for-the-community-2/
LOCATION:Greater Mount Zion AME\, 42 Pennington Ave\, Trenton\, NJ\, 08618\, United States
CATEGORIES:Community
ATTACH;FMTTYPE=image/jpeg:https://www.gmztame.org/wp-content/uploads/2023/03/April-Food-giveaway-Flyer-April.jpg
ORGANIZER;CN="GMZAME":MAILTO:noreply@example.com
END:VEVENT
BEGIN:VEVENT
DTSTART;TZID=America/New_York:20230409T060000
DTEND;TZID=America/New_York:20230409T080000
DTSTAMP:20260420T164017
CREATED:20230329T005805Z
LAST-MODIFIED:20230329T010932Z
UID:2148-1681020000-1681027200@www.gmztame.org
SUMMARY:Resurrection Sunday
DESCRIPTION:Greater Mt. Zion African Methodist Episcopal Church\nResurrection Sunday\nSunrise Service 6AM EST\nMorning Worship 10AM EST\nJoin Us In-Person or Facebook Live\nRev. Dr. Charles F. Boyer\, Pastor First Lady Rosalee Boyer
URL:https://www.gmztame.org/event/resurrection-sunday-2023/
LOCATION:Greater Mount Zion AME\, 42 Pennington Ave\, Trenton\, NJ\, 08618\, United States
CATEGORIES:Sunday Service
ATTACH;FMTTYPE=image/jpeg:https://www.gmztame.org/wp-content/uploads/2023/03/Image46.jpeg
ORGANIZER;CN="GMZAME":MAILTO:noreply@example.com
END:VEVENT
BEGIN:VEVENT
DTSTART;TZID=America/New_York:20230402T100000
DTEND;TZID=America/New_York:20230402T120000
DTSTAMP:20260420T164017
CREATED:20230329T005702Z
LAST-MODIFIED:20230329T005702Z
UID:2138-1680429600-1680436800@www.gmztame.org
SUMMARY:April Preaching & Teaching Series
DESCRIPTION:Greater Mt. Zion African Methodist Episcopal Church\nApril Preaching & Teaching Series\nThe Liberating Gospel pt. 2\nJoin Us In-Person or Facebook Live\nRev. Dr. Charles F. Boyer\, Pastor First Lady Rosalee Boyer
URL:https://www.gmztame.org/event/april-preaching-teaching-series/
LOCATION:Greater Mount Zion AME\, 42 Pennington Ave\, Trenton\, NJ\, 08618\, United States
CATEGORIES:Sunday Service
ATTACH;FMTTYPE=image/jpeg:https://www.gmztame.org/wp-content/uploads/2023/03/Image69.jpeg
ORGANIZER;CN="GMZAME":MAILTO:noreply@example.com
END:VEVENT
BEGIN:VEVENT
DTSTART;TZID=America/New_York:20230401T100000
DTEND;TZID=America/New_York:20230401T120000
DTSTAMP:20260420T164017
CREATED:20230329T011704Z
LAST-MODIFIED:20230329T011704Z
UID:2158-1680343200-1680350400@www.gmztame.org
SUMMARY:Food Giveaway For The Community
DESCRIPTION:Food Giveaway For The Community\nLimited Supplies\nGreater Mt. Zion AME Church & Myra Ashley Missionary Society
URL:https://www.gmztame.org/event/food-giveaway-for-the-community/
LOCATION:Greater Mount Zion AME\, 42 Pennington Ave\, Trenton\, NJ\, 08618\, United States
CATEGORIES:Community
ATTACH;FMTTYPE=image/jpeg:https://www.gmztame.org/wp-content/uploads/2023/03/April-Food-giveaway-Flyer-April.jpg
ORGANIZER;CN="GMZAME":MAILTO:noreply@example.com
END:VEVENT
BEGIN:VEVENT
DTSTART;TZID=America/New_York:20230326T100000
DTEND;TZID=America/New_York:20230326T120000
DTSTAMP:20260420T164017
CREATED:20230304T011646Z
LAST-MODIFIED:20230304T011727Z
UID:2131-1679824800-1679832000@www.gmztame.org
SUMMARY:March Preaching & Teaching Series
DESCRIPTION:Greater Mt. Zion African Methodist Episcopal Church\nMarch Preaching & Teaching Series\nSacrificial Worship\nJoin Us In-Person or Facebook Live\nRev. Dr. Charles F. Boyer\, Pastor First Lady Rosalee Boyer
URL:https://www.gmztame.org/event/march-preaching-teaching-series-26/
LOCATION:Greater Mount Zion AME\, 42 Pennington Ave\, Trenton\, NJ\, 08618\, United States
CATEGORIES:Sunday Service
ATTACH;FMTTYPE=image/jpeg:https://www.gmztame.org/wp-content/uploads/2023/03/March-Preaching-Series.jpeg
ORGANIZER;CN="GMZAME":MAILTO:noreply@example.com
END:VEVENT
BEGIN:VEVENT
DTSTART;VALUE=DATE:20230321
DTEND;VALUE=DATE:20230327
DTSTAMP:20260420T164017
CREATED:20230304T015708Z
LAST-MODIFIED:20230304T015708Z
UID:2135-1679356800-1679875199@www.gmztame.org
SUMMARY:Annual Conference Series
DESCRIPTION:Annual Conference Series\nThe Right Reverend Julius H. McAllister\, Sr.\nMother Joan Marla McAllister\n 
URL:https://www.gmztame.org/event/annual-conference-series/
LOCATION:Greater Mount Zion AME\, 42 Pennington Ave\, Trenton\, NJ\, 08618\, United States
CATEGORIES:Community
ATTACH;FMTTYPE=image/jpeg:https://www.gmztame.org/wp-content/uploads/2023/03/GMZTAME-Annual-Conference-flyer.jpg
ORGANIZER;CN="GMZAME":MAILTO:noreply@example.com
END:VEVENT
BEGIN:VEVENT
DTSTART;TZID=America/New_York:20230319T100000
DTEND;TZID=America/New_York:20230319T120000
DTSTAMP:20260420T164017
CREATED:20230304T012127Z
LAST-MODIFIED:20230304T012127Z
UID:2133-1679220000-1679227200@www.gmztame.org
SUMMARY:March Preaching & Teaching Series
DESCRIPTION:Greater Mt. Zion African Methodist Episcopal Church\nMarch Preaching & Teaching Series\nSacrificial Worship\nJoin Us In-Person or Facebook Live\nRev. Dr. Charles F. Boyer\, Pastor First Lady Rosalee Boyer
URL:https://www.gmztame.org/event/march-preaching-teaching-series-19/
LOCATION:Greater Mount Zion AME\, 42 Pennington Ave\, Trenton\, NJ\, 08618\, United States
CATEGORIES:Sunday Service
ATTACH;FMTTYPE=image/jpeg:https://www.gmztame.org/wp-content/uploads/2023/03/March-Preaching-Series.jpeg
ORGANIZER;CN="GMZAME":MAILTO:noreply@example.com
END:VEVENT
BEGIN:VEVENT
DTSTART;TZID=America/New_York:20230312T100000
DTEND;TZID=America/New_York:20230312T120000
DTSTAMP:20260420T164017
CREATED:20230304T011602Z
LAST-MODIFIED:20230304T011602Z
UID:2129-1678615200-1678622400@www.gmztame.org
SUMMARY:March Preaching & Teaching Series
DESCRIPTION:Greater Mt. Zion African Methodist Episcopal Church\nMarch Preaching & Teaching Series\nSacrificial Worship\nJoin Us In-Person or Facebook Live\nRev. Dr. Charles F. Boyer\, Pastor First Lady Rosalee Boyer
URL:https://www.gmztame.org/event/march-preaching-teaching-series-12/
LOCATION:Greater Mount Zion AME\, 42 Pennington Ave\, Trenton\, NJ\, 08618\, United States
CATEGORIES:Sunday Service
ATTACH;FMTTYPE=image/jpeg:https://www.gmztame.org/wp-content/uploads/2023/03/March-Preaching-Series.jpeg
ORGANIZER;CN="GMZAME":MAILTO:noreply@example.com
END:VEVENT
BEGIN:VEVENT
DTSTART;TZID=America/New_York:20230312T100000
DTEND;TZID=America/New_York:20230312T120000
DTSTAMP:20260420T164017
CREATED:20230228T203547Z
LAST-MODIFIED:20230228T203547Z
UID:2122-1678615200-1678622400@www.gmztame.org
SUMMARY:Women's Day 2023
DESCRIPTION:Greater Mt. Zion African Methodist Episcopal Church\n“Ebony Women Praising The Lord Vibrantly\, and Unapologetically”\nPsalm 150:6\nJoin us in person or Facebook Live\nRev. Dr. Charles F. Boyer\, Pastor\nFirst Lady Rosalee Boyer\n 
URL:https://www.gmztame.org/event/womens-day-2023/
LOCATION:Greater Mount Zion AME\, 42 Pennington Ave\, Trenton\, NJ\, 08618\, United States
CATEGORIES:Community
ATTACH;FMTTYPE=image/jpeg:https://www.gmztame.org/wp-content/uploads/2023/02/3AD3E6E9-FAAA-4D44-8184-FF3F933D354E_1_201_a.jpeg
ORGANIZER;CN="GMZAME":MAILTO:noreply@example.com
END:VEVENT
END:VCALENDAR